BEGIN:VCALENDAR
VERSION:2.0
PRODID:-//Ernest Mandelfonds//Activiteiten//NL
CALSCALE:GREGORIAN
METHOD:PUBLISH
BEGIN:VEVENT
UID:boekvoorstelling-inleiding-tot-het-marxisme@ernestmandelfonds.org
DTSTART;TZID=Europe/Brussels:20260509T140000
DTEND;TZID=Europe/Brussels:20260509T163000
SUMMARY:Inleiding tot het Marxisme van Ernest Mandel
DESCRIPTION:De wereld lijkt steeds dieper in crisis te raken: oorlogen\, gr
 oeiende ongelijkheid en ecologische ontwrichting stellen de vraag hoe het 
 anders kan. Steeds meer mensen wijzen naar het kapitalisme als onderliggen
 de oorzaak\, maar hoe begrijpen en veranderen we dat systeem?\nDeze heruit
 gave van Inleiding tot het Marxisme van Ernest Mandel biedt een toegankeli
 jke ingang tot die vraag\, aangevuld met hedendaagse reflecties die het we
 rk in een actuele context plaatsen.\n
LOCATION:De Groene Waterman\, Wolstraat 7\, 2000 Antwerpen
URL:https://ernestmandelfonds.org/activiteiten/boekvoorstelling-inleiding-t
 ot-het-marxisme
BEGIN:VALARM
ACTION:DISPLAY
DESCRIPTION:Herinnering
TRIGGER:-P2D
END:VALARM
BEGIN:VALARM
ACTION:DISPLAY
DESCRIPTION:Herinnering
TRIGGER:-PT2H
END:VALARM
END:VEVENT
END:VCALENDAR