BEGIN:VCALENDAR
VERSION:2.0
PRODID:-//Ernest Mandelfonds//Activiteiten//NL
CALSCALE:GREGORIAN
METHOD:PUBLISH
BEGIN:VEVENT
UID:ecosocialistisch-manifest@ernestmandelfonds.org
DTSTART;TZID=Europe/Brussels:20250510T190000
DTEND;TZID=Europe/Brussels:20250510T210000
SUMMARY:Ecosocialistisch Manifest
DESCRIPTION:Voorstelling en bespreking van het Ecosocialistisch Manifest\, 
 begin 2025 aangenomen door de Vierde Internationale.
LOCATION:De Groene Waterman\, Wolstraat 7\, 2000 Antwerpen
URL:https://ernestmandelfonds.org/activiteiten/ecosocialistisch-manifest
BEGIN:VALARM
ACTION:DISPLAY
DESCRIPTION:Herinnering
TRIGGER:-P2D
END:VALARM
BEGIN:VALARM
ACTION:DISPLAY
DESCRIPTION:Herinnering
TRIGGER:-PT2H
END:VALARM
END:VEVENT
END:VCALENDAR