BEGIN:VCALENDAR
VERSION:2.0
PRODID:-//Ernest Mandelfonds//Activiteiten//NL
CALSCALE:GREGORIAN
METHOD:PUBLISH
BEGIN:VEVENT
UID:king-kong-muhka@ernestmandelfonds.org
DTSTART;TZID=Europe/Brussels:20250831T140000
DTEND;TZID=Europe/Brussels:20250831T160000
SUMMARY:Archieftentoonstelling King Kong
DESCRIPTION:Bezoek aan de archieftentoonstelling De King Kong tussen cinefi
 lie en links activisme\, onder begeleiding van Guido Totté.
LOCATION:M HKA\, Leuvenstraat 32\, 2000 Antwerpen
URL:https://ernestmandelfonds.org/activiteiten/king-kong-muhka
BEGIN:VALARM
ACTION:DISPLAY
DESCRIPTION:Herinnering
TRIGGER:-P2D
END:VALARM
BEGIN:VALARM
ACTION:DISPLAY
DESCRIPTION:Herinnering
TRIGGER:-PT2H
END:VALARM
END:VEVENT
END:VCALENDAR