BEGIN:VCALENDAR
VERSION:2.0
PRODID:-//Ernest Mandelfonds//Activiteiten//NL
CALSCALE:GREGORIAN
METHOD:PUBLISH
BEGIN:VEVENT
UID:panelgesprek-palestina@ernestmandelfonds.org
DTSTART;TZID=Europe/Brussels:20251006T200000
DTEND;TZID=Europe/Brussels:20251006T220000
SUMMARY:Welke uitweg voor Palestina?
DESCRIPTION:Panelgesprek aan de vooravond van de tweede verjaardag van het 
 begin van de genocide in Gaza.
LOCATION:Universiteit Antwerpen\, Zaal R.012\, Rodestraat\, Antwerpen
URL:https://ernestmandelfonds.org/activiteiten/panelgesprek-palestina
BEGIN:VALARM
ACTION:DISPLAY
DESCRIPTION:Herinnering
TRIGGER:-P2D
END:VALARM
BEGIN:VALARM
ACTION:DISPLAY
DESCRIPTION:Herinnering
TRIGGER:-PT2H
END:VALARM
END:VEVENT
END:VCALENDAR