BEGIN:VCALENDAR
VERSION:2.0
PRODID:-//Ernest Mandelfonds//Activiteiten//NL
CALSCALE:GREGORIAN
METHOD:PUBLISH
BEGIN:VEVENT
UID:studiedag-marxistisch-feminisme@ernestmandelfonds.org
DTSTART;TZID=Europe/Brussels:20260314T100000
DTEND;TZID=Europe/Brussels:20260314T120000
SUMMARY:Marxistisch feminisme in België
DESCRIPTION:Studiedag een week na internationale vrouwendag\, met Ida Deque
 ecker en Noëmie Willemen.
LOCATION:Ecohuis\, Turnhoutsebaan 139\, Antwerpen
URL:https://ernestmandelfonds.org/activiteiten/studiedag-marxistisch-femini
 sme
BEGIN:VALARM
ACTION:DISPLAY
DESCRIPTION:Herinnering
TRIGGER:-P2D
END:VALARM
BEGIN:VALARM
ACTION:DISPLAY
DESCRIPTION:Herinnering
TRIGGER:-PT2H
END:VALARM
END:VEVENT
END:VCALENDAR