BEGIN:VCALENDAR
VERSION:2.0
PRODID:-//Ernest Mandelfonds//Activiteiten//NL
CALSCALE:GREGORIAN
METHOD:PUBLISH
BEGIN:VEVENT
UID:studiedag-verrechtsing@ernestmandelfonds.org
DTSTART;TZID=Europe/Brussels:20251213T100000
DTEND;TZID=Europe/Brussels:20251213T120000
SUMMARY:Verrechtsing vandaag
DESCRIPTION:EMF-studiedag over de hedendaagse verrechtsing\, met Alex de Jo
 ng en Vincent Scheltiens.
LOCATION:Ecohuis\, Antwerpen
URL:https://ernestmandelfonds.org/activiteiten/studiedag-verrechtsing
BEGIN:VALARM
ACTION:DISPLAY
DESCRIPTION:Herinnering
TRIGGER:-P2D
END:VALARM
BEGIN:VALARM
ACTION:DISPLAY
DESCRIPTION:Herinnering
TRIGGER:-PT2H
END:VALARM
END:VEVENT
END:VCALENDAR